BEGIN:VCALENDAR
VERSION:2.0
PRODID:-//ChamberMaster//Event Calendar 2.0//EN
METHOD:PUBLISH
X-PUBLISHED-TTL:P1H
REFRESH-INTERVAL:P1H
CALSCALE:GREGORIAN
BEGIN:VTIMEZONE
TZID:America/Chicago
BEGIN:DAYLIGHT
RRULE:FREQ=YEARLY;BYMONTH=3;BYDAY=2SU
DTSTART:20070101T000000
TZOFFSETFROM:-0600
TZOFFSETTO:-0500
TZNAME:Central Daylight Time
END:DAYLIGHT
BEGIN:STANDARD
RRULE:FREQ=YEARLY;BYMONTH=11;BYDAY=1SU
DTSTART:20070101T000000
TZOFFSETFROM:-0500
TZOFFSETTO:-0600
TZNAME:Central Standard Time
END:STANDARD
END:VTIMEZONE
BEGIN:VEVENT
DTSTART;TZID=America/Chicago:20250813T080000
DTEND;TZID=America/Chicago:20250822T170000
X-MICROSOFT-CDO-ALLDAYEVENT:FALSE
SUMMARY:Paint the Port
DESCRIPTION:Paint the Port is an annual event hosted by the Freeport Art Museum that transforms downtown Freeport into a vibrant outdoor gallery as individuals and families paint the town literally! Held along Chicago Ave\, State Street\, and Stephenson street\, participants can paint from their imagination on 4' x 4' squares. Sign up in advance at https://www.painttheport.com/ to secure a square for $15. At the door\, the price goes up to $20. All supplies are included. No outside paint allowed.
X-ALT-DESC;FMTTYPE=text/html:<!DOCTYPE html><html><head><title></title></head><body aria-disabled="false"><p>Paint the Port is an annual event hosted by the Freeport Art Museum that transforms downtown Freeport into a vibrant outdoor gallery as individuals and families paint the town&mdash\;literally! Held along Chicago Ave\, State Street\, and Stephenson street\, participants can paint from their imagination on 4&#39\; x 4&#39\; squares. Sign up in advance at <a fr-original-style="" href="https://www.painttheport.com/" style="user-select: auto\;">https://www.painttheport.com/</a> to secure a square for $15. At the door\, the price goes up to $20. All supplies are included. No outside paint allowed.</p></body></html>
LOCATION:22 E. Exchange Freeport IL 61032
UID:e.3682.1251389
SEQUENCE:3
DTSTAMP:20260424T165408Z
URL:https://business.greaterfreeport.com/events/Details/paint-the-port-1463268?sourceTypeId=Hub
END:VEVENT
END:VCALENDAR
