BEGIN:VCALENDAR
VERSION:2.0
PRODID:-//ChamberMaster//Event Calendar 2.0//EN
METHOD:PUBLISH
X-PUBLISHED-TTL:P1H
REFRESH-INTERVAL:P1H
CALSCALE:GREGORIAN
BEGIN:VTIMEZONE
TZID:America/Chicago
BEGIN:DAYLIGHT
RRULE:FREQ=YEARLY;BYMONTH=3;BYDAY=2SU
DTSTART:20070101T000000
TZOFFSETFROM:-0600
TZOFFSETTO:-0500
TZNAME:Central Daylight Time
END:DAYLIGHT
BEGIN:STANDARD
RRULE:FREQ=YEARLY;BYMONTH=11;BYDAY=1SU
DTSTART:20070101T000000
TZOFFSETFROM:-0500
TZOFFSETTO:-0600
TZNAME:Central Standard Time
END:STANDARD
END:VTIMEZONE
BEGIN:VEVENT
DTSTART;TZID=America/Chicago:20240406T190000
DTEND;TZID=America/Chicago:20240406T220000
X-MICROSOFT-CDO-ALLDAYEVENT:FALSE
SUMMARY:The Jimmys Fundraising Concert
DESCRIPTION:Get ready for an unforgettable night of fantastic music and fabulous company on April 6th with The Jimmys! The Masonic Event Center ballroom is the place to be\, where you can immerse yourself in the soulful tunes of The Jimmys. Whether you prefer to relax and enjoy the music from your seat or hit the dance floor and groove to every beat\, the choice is yours!\n\n Join us for a night of pure entertainment – revel in the concert\, show off your dance moves\, sip on delicious cocktails\, and cherish moments with friends. Why settle for one when you can have it all? Tickets are just $20 each\, or you can elevate your experience by sponsoring a table for 8 at $200\, ensuring reserved seating for you and your friends.\n\nDoors swing open at 6 pm\, setting the stage for an evening filled with rhythm and melody. The show kicks off at 7 pm\, so be sure to arrive early and make the most of this musical extravaganza! 🌟 Don't miss out – mark your calendars and secure your tickets for an evening that promises great music\, great company\, and great memories!
X-ALT-DESC;FMTTYPE=text/html:Get ready for an unforgettable night of fantastic music and fabulous company on April 6th with The Jimmys! The Masonic Event Center ballroom is the place to be\, where you can immerse yourself in the soulful tunes of The Jimmys. Whether you prefer to relax and enjoy the music from your seat or hit the dance floor and groove to every beat\, the choice is yours!\n\n Join us for a night of pure entertainment – revel in the concert\, show off your dance moves\, sip on delicious cocktails\, and cherish moments with friends. Why settle for one when you can have it all? Tickets are just $20 each\, or you can elevate your experience by sponsoring a table for 8 at $200\, ensuring reserved seating for you and your friends.\n\nDoors swing open at 6 pm\, setting the stage for an evening filled with rhythm and melody. The show kicks off at 7 pm\, so be sure to arrive early and make the most of this musical extravaganza! 🌟 Don't miss out – mark your calendars and secure your tickets for an evening that promises great music\, great company\, and great memories!
LOCATION:305 W. Stephenson St. Freeport 61032
UID:e.3682.936910
SEQUENCE:3
DTSTAMP:20260422T170528Z
URL:https://business.greaterfreeport.com/events/Details/the-jimmys-fundraising-concert-1064892?sourceTypeId=Hub
END:VEVENT
END:VCALENDAR
